BEGIN:VCALENDAR
VERSION:2.0
PRODID:-//Reit- und Fahrverein - ECPv6.15.20//NONSGML v1.0//EN
CALSCALE:GREGORIAN
METHOD:PUBLISH
X-ORIGINAL-URL:http://reitundfahrverein-ebsdorfergrund.de
X-WR-CALDESC:Veranstaltungen für Reit- und Fahrverein
REFRESH-INTERVAL;VALUE=DURATION:PT1H
X-Robots-Tag:noindex
X-PUBLISHED-TTL:PT1H
BEGIN:VTIMEZONE
TZID:Europe/Helsinki
BEGIN:DAYLIGHT
TZOFFSETFROM:+0200
TZOFFSETTO:+0300
TZNAME:EEST
DTSTART:20150329T010000
END:DAYLIGHT
BEGIN:STANDARD
TZOFFSETFROM:+0300
TZOFFSETTO:+0200
TZNAME:EET
DTSTART:20151025T010000
END:STANDARD
BEGIN:DAYLIGHT
TZOFFSETFROM:+0200
TZOFFSETTO:+0300
TZNAME:EEST
DTSTART:20160327T010000
END:DAYLIGHT
BEGIN:STANDARD
TZOFFSETFROM:+0300
TZOFFSETTO:+0200
TZNAME:EET
DTSTART:20161030T010000
END:STANDARD
BEGIN:DAYLIGHT
TZOFFSETFROM:+0200
TZOFFSETTO:+0300
TZNAME:EEST
DTSTART:20170326T010000
END:DAYLIGHT
BEGIN:STANDARD
TZOFFSETFROM:+0300
TZOFFSETTO:+0200
TZNAME:EET
DTSTART:20171029T010000
END:STANDARD
END:VTIMEZONE
BEGIN:VEVENT
DTSTART;VALUE=DATE:20160521
DTEND;VALUE=DATE:20160523
DTSTAMP:20260424T114030
CREATED:20160414T172219Z
LAST-MODIFIED:20160414T172219Z
UID:4584-1463788800-1463961599@reitundfahrverein-ebsdorfergrund.de
SUMMARY:Springlehrgang
DESCRIPTION:Ltg.: Maike Schneider
URL:http://reitundfahrverein-ebsdorfergrund.de/event/springlehrgang-2/
LOCATION:Reitplatz Ebsdorfergrund\, Bahnhofstraße\, Ebsdorf\, Hessen\, 35085\, Deutschland
END:VEVENT
END:VCALENDAR