BEGIN:VCALENDAR
VERSION:2.0
PRODID:-//Reit- und Fahrverein - ECPv6.15.20//NONSGML v1.0//EN
CALSCALE:GREGORIAN
METHOD:PUBLISH
X-ORIGINAL-URL:http://reitundfahrverein-ebsdorfergrund.de
X-WR-CALDESC:Veranstaltungen für Reit- und Fahrverein
REFRESH-INTERVAL;VALUE=DURATION:PT1H
X-Robots-Tag:noindex
X-PUBLISHED-TTL:PT1H
BEGIN:VTIMEZONE
TZID:Europe/Helsinki
BEGIN:DAYLIGHT
TZOFFSETFROM:+0200
TZOFFSETTO:+0300
TZNAME:EEST
DTSTART:20150329T010000
END:DAYLIGHT
BEGIN:STANDARD
TZOFFSETFROM:+0300
TZOFFSETTO:+0200
TZNAME:EET
DTSTART:20151025T010000
END:STANDARD
BEGIN:DAYLIGHT
TZOFFSETFROM:+0200
TZOFFSETTO:+0300
TZNAME:EEST
DTSTART:20160327T010000
END:DAYLIGHT
BEGIN:STANDARD
TZOFFSETFROM:+0300
TZOFFSETTO:+0200
TZNAME:EET
DTSTART:20161030T010000
END:STANDARD
BEGIN:DAYLIGHT
TZOFFSETFROM:+0200
TZOFFSETTO:+0300
TZNAME:EEST
DTSTART:20170326T010000
END:DAYLIGHT
BEGIN:STANDARD
TZOFFSETFROM:+0300
TZOFFSETTO:+0200
TZNAME:EET
DTSTART:20171029T010000
END:STANDARD
END:VTIMEZONE
BEGIN:VEVENT
DTSTART;VALUE=DATE:20160702
DTEND;VALUE=DATE:20160704
DTSTAMP:20260423T181620
CREATED:20140501T124858Z
LAST-MODIFIED:20160414T172559Z
UID:40-1467417600-1467590399@reitundfahrverein-ebsdorfergrund.de
SUMMARY:Reitturnier mit KM Mannschaften Dressur und Springen\, Qualifikation Kreispferdechampionat
DESCRIPTION:Unser alljährliches Turnier findet auch dieses Jahr statt.  Ansprechpartner für das Event sind Ulrike Bachmann  (Tel.:  06422 – 890 715)  und Konrad Weimar unter 06424 – 2921. \nDie offizielle Ausschreibung könnt Ihr hier als PDF downloaden:  \nHelferlisten und Zeiteinteilung kommen dann zu passendem Zeitpunkt online und können hier eingesehen werden.
URL:http://reitundfahrverein-ebsdorfergrund.de/event/reitturnier-2014/
LOCATION:Reitplatz Ebsdorfergrund\, Bahnhofstraße\, Ebsdorf\, Hessen\, 35085\, Deutschland
END:VEVENT
END:VCALENDAR