BEGIN:VCALENDAR
VERSION:2.0
PRODID:-//Reit- und Fahrverein - ECPv6.15.20//NONSGML v1.0//EN
CALSCALE:GREGORIAN
METHOD:PUBLISH
X-WR-CALNAME:Reit- und Fahrverein
X-ORIGINAL-URL:http://reitundfahrverein-ebsdorfergrund.de
X-WR-CALDESC:Veranstaltungen für Reit- und Fahrverein
REFRESH-INTERVAL;VALUE=DURATION:PT1H
X-Robots-Tag:noindex
X-PUBLISHED-TTL:PT1H
BEGIN:VTIMEZONE
TZID:Europe/Helsinki
BEGIN:DAYLIGHT
TZOFFSETFROM:+0200
TZOFFSETTO:+0300
TZNAME:EEST
DTSTART:20160327T010000
END:DAYLIGHT
BEGIN:STANDARD
TZOFFSETFROM:+0300
TZOFFSETTO:+0200
TZNAME:EET
DTSTART:20161030T010000
END:STANDARD
BEGIN:DAYLIGHT
TZOFFSETFROM:+0200
TZOFFSETTO:+0300
TZNAME:EEST
DTSTART:20170326T010000
END:DAYLIGHT
BEGIN:STANDARD
TZOFFSETFROM:+0300
TZOFFSETTO:+0200
TZNAME:EET
DTSTART:20171029T010000
END:STANDARD
BEGIN:DAYLIGHT
TZOFFSETFROM:+0200
TZOFFSETTO:+0300
TZNAME:EEST
DTSTART:20180325T010000
END:DAYLIGHT
BEGIN:STANDARD
TZOFFSETFROM:+0300
TZOFFSETTO:+0200
TZNAME:EET
DTSTART:20181028T010000
END:STANDARD
END:VTIMEZONE
BEGIN:VEVENT
DTSTART;VALUE=DATE:20170610
DTEND;VALUE=DATE:20170612
DTSTAMP:20260423T015844
CREATED:20170404T130753Z
LAST-MODIFIED:20170404T130931Z
UID:4647-1497052800-1497225599@reitundfahrverein-ebsdorfergrund.de
SUMMARY:Springlehrgang mit Rainer Prochazka
DESCRIPTION:Anmeldung bei Maike Schneider -> maike_schneider@gmx.net <- bis zum 02.06. per Mail
URL:http://reitundfahrverein-ebsdorfergrund.de/event/springlehrgang-mit-rainer-prochazka/
LOCATION:Reitplatz Ebsdorfergrund\, Bahnhofstraße\, Ebsdorf\, Hessen\, 35085\, Deutschland
END:VEVENT
END:VCALENDAR