BEGIN:VCALENDAR
VERSION:2.0
PRODID:-//Reit- und Fahrverein - ECPv6.15.20//NONSGML v1.0//EN
CALSCALE:GREGORIAN
METHOD:PUBLISH
X-WR-CALNAME:Reit- und Fahrverein
X-ORIGINAL-URL:http://reitundfahrverein-ebsdorfergrund.de
X-WR-CALDESC:Veranstaltungen für Reit- und Fahrverein
REFRESH-INTERVAL;VALUE=DURATION:PT1H
X-Robots-Tag:noindex
X-PUBLISHED-TTL:PT1H
BEGIN:VTIMEZONE
TZID:Europe/Helsinki
BEGIN:DAYLIGHT
TZOFFSETFROM:+0200
TZOFFSETTO:+0300
TZNAME:EEST
DTSTART:20150329T010000
END:DAYLIGHT
BEGIN:STANDARD
TZOFFSETFROM:+0300
TZOFFSETTO:+0200
TZNAME:EET
DTSTART:20151025T010000
END:STANDARD
BEGIN:DAYLIGHT
TZOFFSETFROM:+0200
TZOFFSETTO:+0300
TZNAME:EEST
DTSTART:20160327T010000
END:DAYLIGHT
BEGIN:STANDARD
TZOFFSETFROM:+0300
TZOFFSETTO:+0200
TZNAME:EET
DTSTART:20161030T010000
END:STANDARD
BEGIN:DAYLIGHT
TZOFFSETFROM:+0200
TZOFFSETTO:+0300
TZNAME:EEST
DTSTART:20170326T010000
END:DAYLIGHT
BEGIN:STANDARD
TZOFFSETFROM:+0300
TZOFFSETTO:+0200
TZNAME:EET
DTSTART:20171029T010000
END:STANDARD
END:VTIMEZONE
BEGIN:VEVENT
DTSTART;TZID=Europe/Helsinki:20160618T100000
DTEND;TZID=Europe/Helsinki:20160618T180000
DTSTAMP:20260423T181602
CREATED:20160414T172357Z
LAST-MODIFIED:20160414T172357Z
UID:4585-1466244000-1466272800@reitundfahrverein-ebsdorfergrund.de
SUMMARY:1. Arbeitseinsatz vor Turnier ab 10.00 Uhr
DESCRIPTION:
URL:http://reitundfahrverein-ebsdorfergrund.de/event/1-arbeitseinsatz-vor-turnier-ab-10-00-uhr/
LOCATION:Reitplatz Ebsdorfergrund\, Bahnhofstraße\, Ebsdorf\, Hessen\, 35085\, Deutschland
END:VEVENT
BEGIN:VEVENT
DTSTART;TZID=Europe/Helsinki:20160625T180000
DTEND;TZID=Europe/Helsinki:20160701T200000
DTSTAMP:20260423T181602
CREATED:20160414T172512Z
LAST-MODIFIED:20160414T172512Z
UID:4586-1466877600-1467403200@reitundfahrverein-ebsdorfergrund.de
SUMMARY:Jeden Abend Arbeitseinsatz ab 18.00 Uhr
DESCRIPTION:
URL:http://reitundfahrverein-ebsdorfergrund.de/event/jeden-abend-arbeitseinsatz-ab-18-00-uhr/
LOCATION:Reitplatz Ebsdorfergrund\, Bahnhofstraße\, Ebsdorf\, Hessen\, 35085\, Deutschland
END:VEVENT
END:VCALENDAR